BEGIN:VCALENDAR
VERSION:2.0
PRODID:-//Plone.org//NONSGML plone.app.event//EN
X-WR-TIMEZONE:Brazil/East
BEGIN:VEVENT
SUMMARY:3ª Ordinária da 2ª Sessão Legislativa da 18ª Legislatura
DTSTART;TZID=Brazil/East;VALUE=DATE-TIME:20260409T190000
DTEND;TZID=Brazil/East;VALUE=DATE-TIME:20260409T200000
DTSTAMP;VALUE=DATE-TIME:20260423T183819Z
UID:713ae09f7ffd4ee7932b2a2f30ddb176@www.antas.ba.leg.br
CONTACT:https://www.youtube.com/@C%C3%82MARAMUNICIPALDEVEREADORESDEA/strea
 ms
CREATED;VALUE=DATE-TIME:20260411T225436Z
DESCRIPTION:Apreciar matérias do Poder Executivo e deliberar sobre a regu
 lamentação interna da Câmara Municipal\, com foco em transparência pú
 blica\, proteção de dados e atendimento ao cidadão
LAST-MODIFIED;VALUE=DATE-TIME:20260411T225441Z
LOCATION:Câmara Municipal de Antas-BA
URL:https://www.antas.ba.leg.br/institucional/eventos/3a-ordinaria-da-2a-s
 essao-legislativa-da-18a-legislatura
END:VEVENT
BEGIN:VEVENT
SUMMARY:4ª Ordinária da 2ª Sessão Legislativa da 18ª Legislatura
DTSTART;TZID=Brazil/East;VALUE=DATE-TIME:20260416T180000
DTEND;TZID=Brazil/East;VALUE=DATE-TIME:20260416T190000
DTSTAMP;VALUE=DATE-TIME:20260423T183819Z
UID:4d2e87cfaef04c469b85d50e2dc5a68a@www.antas.ba.leg.br
CONTACT:https://www.youtube.com/@C%C3%82MARAMUNICIPALDEVEREADORESDEA/strea
 ms
CREATED;VALUE=DATE-TIME:20260423T213244Z
DESCRIPTION:Sessão ordinária destinada à apreciação de matérias legi
 slativas\, uso da tribuna e andamento dos trabalhos legislativos
LAST-MODIFIED;VALUE=DATE-TIME:20260423T213249Z
LOCATION:Câmara Municipal de Antas-BA
URL:https://www.antas.ba.leg.br/institucional/eventos/4a-ordinaria-da-2a-s
 essao-legislativa-da-18a-legislatura
END:VEVENT
BEGIN:VEVENT
SUMMARY:5ª Ordinária da 2ª Sessão Legislativa da 18ª Legislatura
DTSTART;TZID=Brazil/East;VALUE=DATE-TIME:20260423T180000
DTEND;TZID=Brazil/East;VALUE=DATE-TIME:20260423T190000
DTSTAMP;VALUE=DATE-TIME:20260423T183819Z
UID:863a6abf520f4679a3d6766fdea19f2a@www.antas.ba.leg.br
ATTENDEE;CN="Parlamentares, servidores e público em geral.";ROLE=REQ-PART
 ICIPANT:Parlamentares, servidores e público em geral.
CATEGORIES:Transparência
CONTACT:https://www.youtube.com/@C%C3%82MARAMUNICIPALDEVEREADORESDEA/strea
 ms
CREATED;VALUE=DATE-TIME:20260423T213137Z
DESCRIPTION:Sessão ordinária destinada à apreciação de matérias legi
 slativas\, uso da tribuna e andamento dos trabalhos legislativos
LAST-MODIFIED;VALUE=DATE-TIME:20260423T213141Z
LOCATION:Câmara Municipal de Antas-BA
URL:https://www.antas.ba.leg.br/institucional/eventos/5a-ordinaria-da-2a-s
 essao-legislativa-da-18a-legislatura
END:VEVENT
BEGIN:VTIMEZONE
TZID:Brazil/East
X-LIC-LOCATION:Brazil/East
BEGIN:STANDARD
DTSTART;VALUE=DATE-TIME:20260221T230000
TZNAME:BRT
TZOFFSETFROM:-0200
TZOFFSETTO:-0300
END:STANDARD
END:VTIMEZONE
END:VCALENDAR
